BEGIN:VCALENDAR
VERSION:2.0
PRODID:-//kyohatsu//JP
CALSCALE:GREGORIAN
BEGIN:VEVENT
DTSTART;VALUE=DATE:20260522
SUMMARY:聖なる皇帝がとんだ隠れ絶倫だった件（1）
DESCRIPTION:pipipi/葛城阿高/長谷川ゆう Jパブリッシング
UID:9784866698540@kyohatsu.lb-product.com
END:VEVENT
END:VCALENDAR
