BEGIN:VCALENDAR
VERSION:2.0
PRODID:-//kyohatsu//JP
CALSCALE:GREGORIAN
BEGIN:VEVENT
DTSTART;VALUE=DATE:20260605
SUMMARY:ゴトウ先生と古の角（3）
DESCRIPTION: ヒーローズ
UID:9784868051855@kyohatsu.lb-product.com
END:VEVENT
BEGIN:VEVENT
DTSTART;VALUE=DATE:20260605
SUMMARY:モモとツノ（2）
DESCRIPTION:白井　慶太 ヒーローズ
UID:9784868051862@kyohatsu.lb-product.com
END:VEVENT
BEGIN:VEVENT
DTSTART;VALUE=DATE:20260605
SUMMARY:ダイダラ（4）
DESCRIPTION:高橋　碁飯 ヒーローズ
UID:9784868051886@kyohatsu.lb-product.com
END:VEVENT
BEGIN:VEVENT
DTSTART;VALUE=DATE:20260605
SUMMARY:仮面ライダークウガ（30）
DESCRIPTION:石ノ森　章太郎/井上　敏樹/横島　一/白倉　伸一郎 ヒーローズ
UID:9784868051879@kyohatsu.lb-product.com
END:VEVENT
BEGIN:VEVENT
DTSTART;VALUE=DATE:20260605
SUMMARY:アトム ザ・ビギニング（26）
DESCRIPTION:手塚　治虫/ゆうき　まさみ/カサハラ　テツロー/手塚　眞 ヒーローズ
UID:9784868051848@kyohatsu.lb-product.com
END:VEVENT
END:VCALENDAR
