BEGIN:VCALENDAR
VERSION:2.0
PRODID:-//kyohatsu//JP
CALSCALE:GREGORIAN
BEGIN:VEVENT
DTSTART;VALUE=DATE:20260703
SUMMARY:王国へ続く道　奴隷剣士の成り上がり英雄譚　20
DESCRIPTION:伊藤　寿規/湯水　快/日陰　影次 KADOKAWA
UID:9784046602749@kyohatsu.lb-product.com
END:VEVENT
END:VCALENDAR
