BEGIN:VCALENDAR
VERSION:2.0
PRODID:-//kyohatsu//JP
CALSCALE:GREGORIAN
BEGIN:VEVENT
DTSTART;VALUE=DATE:20260827
SUMMARY:阪急沿線怪談（1）
DESCRIPTION:宇津呂鹿太郎/明石冬真 竹書房
UID:9784801949133@kyohatsu.lb-product.com
END:VEVENT
END:VCALENDAR
