BEGIN:VCALENDAR
VERSION:2.0
PRODID:-//kyohatsu//JP
CALSCALE:GREGORIAN
BEGIN:VEVENT
DTSTART;VALUE=DATE:20260515
SUMMARY:暗闇のエンジェル
DESCRIPTION:スーザン・ネーピア/仲本ヒロコ ハーパーコリンズ・ジャパン
UID:9784302118625@kyohatsu.lb-product.com
END:VEVENT
END:VCALENDAR
