BEGIN:VCALENDAR
VERSION:2.0
PRODID:-//kyohatsu//JP
CALSCALE:GREGORIAN
BEGIN:VEVENT
DTSTART;VALUE=DATE:20260515
SUMMARY:白百合の令嬢
DESCRIPTION:マーガレット・ウェイ/真咲理央 ハーパーコリンズ・ジャパン
UID:9784302118663@kyohatsu.lb-product.com
END:VEVENT
END:VCALENDAR
