BEGIN:VCALENDAR
VERSION:2.0
PRODID:-//kyohatsu//JP
CALSCALE:GREGORIAN
BEGIN:VEVENT
DTSTART;VALUE=DATE:20260515
SUMMARY:華麗なる誘惑
DESCRIPTION:サラ・モーガン/古川倫子 ハーパーコリンズ・ジャパン
UID:9784302118601@kyohatsu.lb-product.com
END:VEVENT
END:VCALENDAR
