BEGIN:VCALENDAR
VERSION:2.0
PRODID:-//kyohatsu//JP
CALSCALE:GREGORIAN
BEGIN:VEVENT
DTSTART;VALUE=DATE:20260529
SUMMARY:シンデレラの過去
DESCRIPTION:キャシー・ウィリアムズ/茅野久枝 ハーパーコリンズ・ジャパン
UID:9784302118342@kyohatsu.lb-product.com
END:VEVENT
END:VCALENDAR
