BEGIN:VCALENDAR
VERSION:2.0
PRODID:-//kyohatsu//JP
CALSCALE:GREGORIAN
BEGIN:VEVENT
DTSTART;VALUE=DATE:20260529
SUMMARY:愛の金曜日
DESCRIPTION:ジェシカ・スティール/三好陽子 ハーパーコリンズ・ジャパン
UID:9784302118328@kyohatsu.lb-product.com
END:VEVENT
END:VCALENDAR
