BEGIN:VCALENDAR
VERSION:2.0
PRODID:-//kyohatsu//JP
CALSCALE:GREGORIAN
BEGIN:VEVENT
DTSTART;VALUE=DATE:20260529
SUMMARY:エーゲ海の独身貴族
DESCRIPTION:レベッカ・ウインターズ/後藤美香 ハーパーコリンズ・ジャパン
UID:9784302118304@kyohatsu.lb-product.com
END:VEVENT
END:VCALENDAR
