BEGIN:VCALENDAR
VERSION:2.0
PRODID:-//kyohatsu//JP
CALSCALE:GREGORIAN
BEGIN:VEVENT
DTSTART;VALUE=DATE:20260529
SUMMARY:シャドウ マリッジ
DESCRIPTION:ペニー・ジョーダン/高木とし ハーパーコリンズ・ジャパン
UID:9784302118281@kyohatsu.lb-product.com
END:VEVENT
END:VCALENDAR
