BEGIN:VCALENDAR
VERSION:2.0
PRODID:-//kyohatsu//JP
CALSCALE:GREGORIAN
BEGIN:VEVENT
DTSTART;VALUE=DATE:20260529
SUMMARY:さよならの演技
DESCRIPTION:ダイアナ・ハミルトン/駒月雅子 ハーパーコリンズ・ジャパン
UID:9784302118144@kyohatsu.lb-product.com
END:VEVENT
END:VCALENDAR
