BEGIN:VCALENDAR
VERSION:2.0
PRODID:-//kyohatsu//JP
CALSCALE:GREGORIAN
BEGIN:VEVENT
DTSTART;VALUE=DATE:20260529
SUMMARY:舞踏会で捨てられた野の花
DESCRIPTION:レベッカ・ハンター/久保奈緒実 ハーパーコリンズ・ジャパン
UID:9784302118120@kyohatsu.lb-product.com
END:VEVENT
END:VCALENDAR
