BEGIN:VCALENDAR
VERSION:2.0
PRODID:-//kyohatsu//JP
CALSCALE:GREGORIAN
BEGIN:VEVENT
DTSTART;VALUE=DATE:20260515
SUMMARY:結婚嫌いの大富豪
DESCRIPTION:レイチェル・ベイリー/雨宮幸子 ハーパーコリンズ・ジャパン
UID:9784302117031@kyohatsu.lb-product.com
END:VEVENT
END:VCALENDAR
