BEGIN:VCALENDAR
VERSION:2.0
PRODID:-//kyohatsu//JP
CALSCALE:GREGORIAN
BEGIN:VEVENT
DTSTART;VALUE=DATE:20260515
SUMMARY:八年後、天使は再び舞い降りて
DESCRIPTION:ミシェル・スマート/柚野木　菫 ハーパーコリンズ・ジャパン
UID:9784302116997@kyohatsu.lb-product.com
END:VEVENT
END:VCALENDAR
