BEGIN:VCALENDAR
VERSION:2.0
PRODID:-//kyohatsu//JP
CALSCALE:GREGORIAN
BEGIN:VEVENT
DTSTART;VALUE=DATE:20260529
SUMMARY:拒まれた純愛
DESCRIPTION:キャロル・モーティマー/片山真紀 ハーパーコリンズ・ジャパン
UID:9784302118229@kyohatsu.lb-product.com
END:VEVENT
END:VCALENDAR
