BEGIN:VCALENDAR
VERSION:2.0
PRODID:-//kyohatsu//JP
CALSCALE:GREGORIAN
BEGIN:VEVENT
DTSTART;VALUE=DATE:20260515
SUMMARY:悲しみからの旅立ち
DESCRIPTION:ベティ・ニールズ/広木夏子 ハーパーコリンズ・ジャパン
UID:9784302117093@kyohatsu.lb-product.com
END:VEVENT
END:VCALENDAR
