BEGIN:VCALENDAR
VERSION:2.0
PRODID:-//kyohatsu//JP
CALSCALE:GREGORIAN
BEGIN:VEVENT
DTSTART;VALUE=DATE:20260529
SUMMARY:君を傷つけた理由
DESCRIPTION:リン・グレアム/高木晶子 ハーパーコリンズ・ジャパン
UID:9784302118267@kyohatsu.lb-product.com
END:VEVENT
END:VCALENDAR
