BEGIN:VCALENDAR
VERSION:2.0
PRODID:-//kyohatsu//JP
CALSCALE:GREGORIAN
BEGIN:VEVENT
DTSTART;VALUE=DATE:20260515
SUMMARY:一夜のシンデレラ
DESCRIPTION:リン・グレアム/漆原　麗 ハーパーコリンズ・ジャパン
UID:9784302117116@kyohatsu.lb-product.com
END:VEVENT
END:VCALENDAR
