BEGIN:VCALENDAR
VERSION:2.0
PRODID:-//kyohatsu//JP
CALSCALE:GREGORIAN
BEGIN:VEVENT
DTSTART;VALUE=DATE:20260515
SUMMARY:愛なき約束の向こうに
DESCRIPTION:シャロン・サラ/佐野雅子 ハーパーコリンズ・ジャパン
UID:9784302117130@kyohatsu.lb-product.com
END:VEVENT
END:VCALENDAR
