BEGIN:VCALENDAR
VERSION:2.0
PRODID:-//kyohatsu//JP
CALSCALE:GREGORIAN
BEGIN:VEVENT
DTSTART;VALUE=DATE:20260529
SUMMARY:売り渡された淑女
DESCRIPTION:アニー・バロウズ/深山ちひろ ハーパーコリンズ・ジャパン
UID:9784302118243@kyohatsu.lb-product.com
END:VEVENT
END:VCALENDAR
