BEGIN:VCALENDAR
VERSION:2.0
PRODID:-//kyohatsu//JP
CALSCALE:GREGORIAN
BEGIN:VEVENT
DTSTART;VALUE=DATE:20260515
SUMMARY:スター作家傑作選〜氷の家に嫁いで〜
DESCRIPTION:ルーシー・モンロー/山科みずき ハーパーコリンズ・ジャパン
UID:9784302117154@kyohatsu.lb-product.com
END:VEVENT
END:VCALENDAR
