BEGIN:VCALENDAR
VERSION:2.0
PRODID:-//kyohatsu//JP
CALSCALE:GREGORIAN
BEGIN:VEVENT
DTSTART;VALUE=DATE:20260529
SUMMARY:野性の女
DESCRIPTION:エマ・ダーシー/霜月　桂 ハーパーコリンズ・ジャパン
UID:9784302118205@kyohatsu.lb-product.com
END:VEVENT
END:VCALENDAR
