BEGIN:VCALENDAR
VERSION:2.0
PRODID:-//kyohatsu//JP
CALSCALE:GREGORIAN
BEGIN:VEVENT
DTSTART;VALUE=DATE:20260529
SUMMARY:小さな双子は幸せ配達人
DESCRIPTION:ルイーザ・ヒートン/泉　智子 ハーパーコリンズ・ジャパン
UID:9784302118182@kyohatsu.lb-product.com
END:VEVENT
END:VCALENDAR
