BEGIN:VCALENDAR
VERSION:2.0
PRODID:-//kyohatsu//JP
CALSCALE:GREGORIAN
BEGIN:VEVENT
DTSTART;VALUE=DATE:20260515
SUMMARY:ボスには内緒
DESCRIPTION:ジェシカ・スティール/山本瑠美子 ハーパーコリンズ・ジャパン
UID:9784302117079@kyohatsu.lb-product.com
END:VEVENT
END:VCALENDAR
