BEGIN:VCALENDAR
VERSION:2.0
PRODID:-//kyohatsu//JP
CALSCALE:GREGORIAN
BEGIN:VEVENT
DTSTART;VALUE=DATE:20260515
SUMMARY:さよならのあとの贈り物
DESCRIPTION:ジュリエット・ハイランド/森　未朝 ハーパーコリンズ・ジャパン
UID:9784302117055@kyohatsu.lb-product.com
END:VEVENT
END:VCALENDAR
