BEGIN:VCALENDAR
VERSION:2.0
PRODID:-//kyohatsu//JP
CALSCALE:GREGORIAN
BEGIN:VEVENT
DTSTART;VALUE=DATE:20260601
SUMMARY:間違えられた花嫁
DESCRIPTION:篠崎佳久子/ケイト・ヒューイット ハーパーコリンズ・ジャパン
UID:9784302118533@kyohatsu.lb-product.com
END:VEVENT
END:VCALENDAR
