BEGIN:VCALENDAR
VERSION:2.0
PRODID:-//kyohatsu//JP
CALSCALE:GREGORIAN
BEGIN:VEVENT
DTSTART;VALUE=DATE:20260601
SUMMARY:十年目の蜜月
DESCRIPTION:星合　操/ポーラ・マーシャル ハーパーコリンズ・ジャパン
UID:9784302118526@kyohatsu.lb-product.com
END:VEVENT
END:VCALENDAR
