BEGIN:VCALENDAR
VERSION:2.0
PRODID:-//kyohatsu//JP
CALSCALE:GREGORIAN
BEGIN:VEVENT
DTSTART;VALUE=DATE:20260601
SUMMARY:億万長者に言えない秘密
DESCRIPTION:有沢　遼/キャンディ・シェパード ハーパーコリンズ・ジャパン
UID:9784302118519@kyohatsu.lb-product.com
END:VEVENT
END:VCALENDAR
