BEGIN:VCALENDAR
VERSION:2.0
PRODID:-//kyohatsu//JP
CALSCALE:GREGORIAN
BEGIN:VEVENT
DTSTART;VALUE=DATE:20260601
SUMMARY:最高の恋人候補
DESCRIPTION:藤原基央/エミリー・ローズ ハーパーコリンズ・ジャパン
UID:9784302118502@kyohatsu.lb-product.com
END:VEVENT
END:VCALENDAR
