BEGIN:VCALENDAR
VERSION:2.0
PRODID:-//kyohatsu//JP
CALSCALE:GREGORIAN
BEGIN:VEVENT
DTSTART;VALUE=DATE:20260601
SUMMARY:週末の危険な遊び
DESCRIPTION:松川祐里子/ヴィッキー・L・トンプソン ハーパーコリンズ・ジャパン
UID:9784302118489@kyohatsu.lb-product.com
END:VEVENT
END:VCALENDAR
