BEGIN:VCALENDAR
VERSION:2.0
PRODID:-//kyohatsu//JP
CALSCALE:GREGORIAN
BEGIN:VEVENT
DTSTART;VALUE=DATE:20260515
SUMMARY:医療過誤弁護士
DESCRIPTION:富永 愛 角川春樹事務所
UID:9784758448079@kyohatsu.lb-product.com
END:VEVENT
END:VCALENDAR
