BEGIN:VCALENDAR
VERSION:2.0
PRODID:-//kyohatsu//JP
CALSCALE:GREGORIAN
BEGIN:VEVENT
DTSTART;VALUE=DATE:20260515
SUMMARY:名古屋駅西　喫茶ユトリロ　龍くんは白鳥の歌なんか歌わない
DESCRIPTION:太田 忠司 角川春樹事務所
UID:9784758448024@kyohatsu.lb-product.com
END:VEVENT
END:VCALENDAR
