BEGIN:VCALENDAR
VERSION:2.0
PRODID:-//kyohatsu//JP
CALSCALE:GREGORIAN
BEGIN:VEVENT
DTSTART;VALUE=DATE:20260630
SUMMARY:あきない世傳　金と銀（1）
DESCRIPTION:高田 郁/かどた ひろし 角川春樹事務所
UID:9784758490108@kyohatsu.lb-product.com
END:VEVENT
END:VCALENDAR
