BEGIN:VCALENDAR
VERSION:2.0
PRODID:-//kyohatsu//JP
CALSCALE:GREGORIAN
BEGIN:VEVENT
DTSTART;VALUE=DATE:20260604
SUMMARY:ワンダラーの時計
DESCRIPTION:クルト・マール/エルンスト・ヴルチェク/中野　真紀 早川書房
UID:9784150125219@kyohatsu.lb-product.com
END:VEVENT
END:VCALENDAR
