BEGIN:VCALENDAR
VERSION:2.0
PRODID:-//kyohatsu//JP
CALSCALE:GREGORIAN
BEGIN:VEVENT
DTSTART;VALUE=DATE:20260521
SUMMARY:惑星エフレムの戦士
DESCRIPTION:ペーター・グリーゼ/アルント・エルマー/若松　宣子 早川書房
UID:9784150125196@kyohatsu.lb-product.com
END:VEVENT
END:VCALENDAR
