BEGIN:VCALENDAR
VERSION:2.0
PRODID:-//kyohatsu//JP
CALSCALE:GREGORIAN
BEGIN:VEVENT
DTSTART;VALUE=DATE:20260511
SUMMARY:眠れる者たちの霊廟
DESCRIPTION:ロベルト・フェルトホフ/マリアンネ・シドウ/長谷川　早苗 早川書房
UID:9784150125189@kyohatsu.lb-product.com
END:VEVENT
END:VCALENDAR
