BEGIN:VCALENDAR
VERSION:2.0
PRODID:-//kyohatsu//JP
CALSCALE:GREGORIAN
BEGIN:VEVENT
DTSTART;VALUE=DATE:20260604
SUMMARY:あいどる〔新版〕
DESCRIPTION:ウィリアム・ギブスン/浅倉　久志 早川書房
UID:9784150125233@kyohatsu.lb-product.com
END:VEVENT
END:VCALENDAR
