BEGIN:VCALENDAR
VERSION:2.0
PRODID:-//kyohatsu//JP
CALSCALE:GREGORIAN
BEGIN:VEVENT
DTSTART;VALUE=DATE:20260604
SUMMARY:贄の森
DESCRIPTION:エリン・E・アダムス/岩瀬　徳子 早川書房
UID:9784151871511@kyohatsu.lb-product.com
END:VEVENT
END:VCALENDAR
