BEGIN:VCALENDAR
VERSION:2.0
PRODID:-//kyohatsu//JP
CALSCALE:GREGORIAN
BEGIN:VEVENT
DTSTART;VALUE=DATE:20260604
SUMMARY:記憶にない殺人
DESCRIPTION:エイミー・ティンテラ/服部　京子 早川書房
UID:9784150020286@kyohatsu.lb-product.com
END:VEVENT
END:VCALENDAR
