BEGIN:VCALENDAR
VERSION:2.0
PRODID:-//kyohatsu//JP
CALSCALE:GREGORIAN
BEGIN:VEVENT
DTSTART;VALUE=DATE:20260501
SUMMARY:すべての石に宿る神
DESCRIPTION:カミーラ・シャムジー/河内　恵子 早川書房
UID:9784152105158@kyohatsu.lb-product.com
END:VEVENT
BEGIN:VEVENT
DTSTART;VALUE=DATE:20260501
SUMMARY:預言者の歌
DESCRIPTION:ポール・リンチ/栩木　伸明 早川書房
UID:9784152105141@kyohatsu.lb-product.com
END:VEVENT
END:VCALENDAR
