BEGIN:VCALENDAR
VERSION:2.0
PRODID:-//kyohatsu//JP
CALSCALE:GREGORIAN
BEGIN:VEVENT
DTSTART;VALUE=DATE:20260525
SUMMARY:ぼんたん激動編　姫武将まさむね参る！！
DESCRIPTION:阿部川キネコ/はしもとまさえ Gakken
UID:9784056071535@kyohatsu.lb-product.com
END:VEVENT
BEGIN:VEVENT
DTSTART;VALUE=DATE:20260525
SUMMARY:さくらんぼダイアリー　3巻
DESCRIPTION:水沢めぐみ Gakken
UID:9784056071528@kyohatsu.lb-product.com
END:VEVENT
BEGIN:VEVENT
DTSTART;VALUE=DATE:20260525
SUMMARY:恋ひ恋ひて　1
DESCRIPTION:ito/みずのまい Gakken
UID:9784056071498@kyohatsu.lb-product.com
END:VEVENT
END:VCALENDAR
