BEGIN:VCALENDAR
VERSION:2.0
PRODID:-//kyohatsu//JP
CALSCALE:GREGORIAN
BEGIN:VEVENT
DTSTART;VALUE=DATE:20260525
SUMMARY:最強ギフトで領地経営スローライフ（6）
DESCRIPTION:音速炒飯/眠田瞼/riritto 一二三書房
UID:9784824206763@kyohatsu.lb-product.com
END:VEVENT
END:VCALENDAR
