BEGIN:VCALENDAR
VERSION:2.0
PRODID:-//kyohatsu//JP
CALSCALE:GREGORIAN
BEGIN:VEVENT
DTSTART;VALUE=DATE:20260525
SUMMARY:カノンレディ（3）
DESCRIPTION:村井啓/中将慶次/※Kome 一二三書房
UID:9784824206305@kyohatsu.lb-product.com
END:VEVENT
BEGIN:VEVENT
DTSTART;VALUE=DATE:20260525
SUMMARY:元魔王様の南国スローライフ（3）
DESCRIPTION:十一屋翠/高羽ツバサ/ファルまろ 一二三書房
UID:9784824206732@kyohatsu.lb-product.com
END:VEVENT
BEGIN:VEVENT
DTSTART;VALUE=DATE:20260525
SUMMARY:SSS級スキル配布神官の辺境セカンドライフ（3）
DESCRIPTION:天池のぞむ/須藤由華/ゆーにっと 一二三書房
UID:9784824206282@kyohatsu.lb-product.com
END:VEVENT
END:VCALENDAR
