BEGIN:VCALENDAR
VERSION:2.0
PRODID:-//kyohatsu//JP
CALSCALE:GREGORIAN
BEGIN:VEVENT
DTSTART;VALUE=DATE:20260513
SUMMARY:ぼくのいうことを、きかないぼく
DESCRIPTION:柴野　理奈子/中田　いくみ/谷　謙太朗 ポプラ社
UID:9784591189504@kyohatsu.lb-product.com
END:VEVENT
END:VCALENDAR
