BEGIN:VCALENDAR
VERSION:2.0
PRODID:-//kyohatsu//JP
CALSCALE:GREGORIAN
BEGIN:VEVENT
DTSTART;VALUE=DATE:20260529
SUMMARY:藍沢響は笑わない （　3）
DESCRIPTION:橘 しづき（エブリスタ）/cojomo 日本文芸社
UID:9784537173970@kyohatsu.lb-product.com
END:VEVENT
END:VCALENDAR
