BEGIN:VCALENDAR
VERSION:2.0
PRODID:-//kyohatsu//JP
CALSCALE:GREGORIAN
BEGIN:VEVENT
DTSTART;VALUE=DATE:20260605
SUMMARY:最強付与士の無自覚ハーレム冒険譚 仲間の顔も素性も知らないけどたぶん全員男だと思う（1）
DESCRIPTION:徳川　レモン/U-pa KADOKAWA
UID:9784040764337@kyohatsu.lb-product.com
END:VEVENT
BEGIN:VEVENT
DTSTART;VALUE=DATE:20260703
SUMMARY:ガラス工房の錬金術師2
DESCRIPTION:佐倉　真稀/LINO KADOKAWA
UID:9784040764597@kyohatsu.lb-product.com
END:VEVENT
BEGIN:VEVENT
DTSTART;VALUE=DATE:20260703
SUMMARY:崩壊世界でマンション暮らし 家賃はきっちりもらいます（1）
DESCRIPTION:二時間十秒/うさぎのつの KADOKAWA
UID:9784040764979@kyohatsu.lb-product.com
END:VEVENT
END:VCALENDAR
