BEGIN:VCALENDAR
VERSION:2.0
PRODID:-//kyohatsu//JP
CALSCALE:GREGORIAN
BEGIN:VEVENT
DTSTART;VALUE=DATE:20260531
SUMMARY:東階段そうじの班長はマジマジメ！
DESCRIPTION:横沢彰/スカイエマ 新日本出版社
UID:9784406069816@kyohatsu.lb-product.com
END:VEVENT
END:VCALENDAR
