BEGIN:VCALENDAR
VERSION:2.0
PRODID:-//kyohatsu//JP
CALSCALE:GREGORIAN
BEGIN:VEVENT
DTSTART;VALUE=DATE:20260522
SUMMARY:魔道祖師 5
DESCRIPTION:落地成球/墨香銅臭 フロンティアワークス
UID:9784866579092@kyohatsu.lb-product.com
END:VEVENT
END:VCALENDAR
