BEGIN:VCALENDAR
VERSION:2.0
PRODID:-//kyohatsu//JP
CALSCALE:GREGORIAN
BEGIN:VEVENT
DTSTART;VALUE=DATE:20260522
SUMMARY:彼女がハーレムを薦めてくる。 3
DESCRIPTION:愛上 クレ/Octonut・SHINANO LAB 集英社
UID:9784086316354@kyohatsu.lb-product.com
END:VEVENT
BEGIN:VEVENT
DTSTART;VALUE=DATE:20260522
SUMMARY:高校時代に傲慢だった女王様との同棲生活は意外と居心地が悪くない 5
DESCRIPTION:ミソネタ・ドザえもん/ゆがー 集英社
UID:9784086316538@kyohatsu.lb-product.com
END:VEVENT
END:VCALENDAR
